BEGIN:VCALENDAR
VERSION:2.0
PRODID:SchoolNow
CALSCALE:GREGORIAN
BEGIN:VEVENT
UID:e4d37014-619c-11f0-9cb3-0a58a9feac02
DTSTAMP:20260424T193507Z
SUMMARY:School Based In-Service
URL;VALUE=URI:https://www.lpssonline.com/calendar/8417438/school-based-in-s
 ervice
DTSTART;VALUE=DATE:20260105
DTEND;VALUE=DATE:20260106
END:VEVENT
END:VCALENDAR
