BEGIN:VCALENDAR
VERSION:2.0
PRODID:SchoolNow
CALSCALE:GREGORIAN
BEGIN:VEVENT
UID:92165312-0752-11f1-bbc8-02c110f8811d
DTSTAMP:20260424T193507Z
SUMMARY:Board Legislative Committee Meeting
URL;VALUE=URI:https://www.lpssonline.com/calendar/8853077/board-legislative
 -committee-meeting
DTSTART:20260225T170000Z
DTEND:20260225T180000Z
END:VEVENT
END:VCALENDAR
