BEGIN:VCALENDAR
VERSION:2.0
PRODID:SchoolNow
CALSCALE:GREGORIAN
BEGIN:VEVENT
UID:9e912b2e-2701-11ed-8bad-0ee8202e6647
DTSTAMP:20220828T184542Z
SUMMARY:Book Fair
LOCATION:Acadian Middle School Library
URL;VALUE=URI:https://www.lpssonline.com/schools/acadian/calendar/3311265/b
 ook-fair
DTSTART;VALUE=DATE:20220926
DTEND;VALUE=DATE:20221001
END:VEVENT
END:VCALENDAR
