BEGIN:VCALENDAR
VERSION:2.0
PRODID:SchoolNow
CALSCALE:GREGORIAN
BEGIN:VEVENT
UID:07aa2322-39e5-11ed-80c8-027b07447e17
DTSTAMP:20220921T193855Z
SUMMARY:Book Fair Family Shopping Event
URL;VALUE=URI:https://www.lpssonline.com/schools/acadian/calendar/3423919/b
 ook-fair-family-shopping-event
DTSTART:20220928T220000Z
DTEND:20220928T230000Z
END:VEVENT
END:VCALENDAR
