BEGIN:VCALENDAR
VERSION:2.0
PRODID:SchoolNow
CALSCALE:GREGORIAN
BEGIN:VEVENT
UID:cdbec486-fec9-11ef-9588-0e6a4d8f2001
DTSTAMP:20251216T154556Z
SUMMARY:AoB Poboy Sale/Pick up
LOCATION:Front Circle of School
URL;VALUE=URI:https://www.lpssonline.com/schools/acadiana/calendar/7660448/
 aob-poboy-sale-pick-up
DTSTART:20251010T153000Z
DTEND:20251010T180000Z
END:VEVENT
END:VCALENDAR
