BEGIN:VCALENDAR
VERSION:2.0
PRODID:SchoolNow
CALSCALE:GREGORIAN
BEGIN:VEVENT
UID:4c2082fc-27a0-11f0-9da1-0e4e35513feb
DTSTAMP:20251216T154557Z
SUMMARY:LDOE - Aspiring Principals
URL;VALUE=URI:https://www.lpssonline.com/schools/acadiana/calendar/8054853/
 ldoe-aspiring-principals
DTSTART:20250923T130000Z
DTEND:20250923T150000Z
END:VEVENT
END:VCALENDAR
