BEGIN:VCALENDAR
VERSION:2.0
PRODID:SchoolNow
CALSCALE:GREGORIAN
BEGIN:VEVENT
UID:976c2bbc-35c4-11f0-a246-025ee0595593
DTSTAMP:20251216T154557Z
SUMMARY:Prom
LOCATION:CAJUNDOME & Convention Center\, 444 Cajundome Blvd\, Lafayette\, L
 A 70506\, USA
URL;VALUE=URI:https://www.lpssonline.com/schools/acadiana/calendar/8170748/
 prom
DTSTART:20260502T234500Z
DTEND:20260503T030000Z
END:VEVENT
END:VCALENDAR
