BEGIN:VCALENDAR
VERSION:2.0
PRODID:SchoolNow
CALSCALE:GREGORIAN
BEGIN:VEVENT
UID:d2074706-3bf1-11f0-8a30-02166bab2149
DTSTAMP:20251216T154557Z
SUMMARY:Love Our School Day
LOCATION:Boys Gym
URL;VALUE=URI:https://www.lpssonline.com/schools/acadiana/calendar/8215950/
 love-our-school-day
DTSTART:20250920T130000Z
DTEND:20250920T210000Z
END:VEVENT
END:VCALENDAR
