BEGIN:VCALENDAR
VERSION:2.0
PRODID:SchoolNow
CALSCALE:GREGORIAN
BEGIN:VEVENT
UID:4b2daa0c-464d-11f0-a7e2-0a58a9feac02
DTSTAMP:20251216T154557Z
SUMMARY:Neighbor's NFL Visa Event (Gym)
LOCATION:Acadiana High School\, 315 Rue du Belier\, Lafayette\, LA 70506\, 
 USA
URL;VALUE=URI:https://www.lpssonline.com/schools/acadiana/calendar/8282808/
 neighbors-nfl-visa-event-gym
DTSTART;VALUE=DATE:20250903
DTEND;VALUE=DATE:20250904
END:VEVENT
END:VCALENDAR
