BEGIN:VCALENDAR
VERSION:2.0
PRODID:SchoolNow
CALSCALE:GREGORIAN
BEGIN:VEVENT
UID:4846aa9a-4680-11f0-ac61-0a58a9feac02
DTSTAMP:20251216T154556Z
SUMMARY:Neighbor's NFL Visa Event Set Up in Gym
URL;VALUE=URI:https://www.lpssonline.com/schools/acadiana/calendar/8284296/
 neighbors-nfl-visa-event-set-up-in-gym
DTSTART:20250902T173000Z
DTEND:20250902T213000Z
END:VEVENT
END:VCALENDAR
