BEGIN:VCALENDAR
VERSION:2.0
PRODID:SchoolNow
CALSCALE:GREGORIAN
BEGIN:VEVENT
UID:35870956-4818-11f0-a15a-0ec1eb31c371
DTSTAMP:20251216T154557Z
SUMMARY:Varsity Football Potluck_ A_Himel
URL;VALUE=URI:https://www.lpssonline.com/schools/acadiana/calendar/8295798/
 varsity-football-potluck-a-himel
DTSTART:20250825T230000Z
DTEND:20250826T010000Z
END:VEVENT
END:VCALENDAR
