BEGIN:VCALENDAR
VERSION:2.0
PRODID:SchoolNow
CALSCALE:GREGORIAN
BEGIN:VEVENT
UID:35870d0c-4818-11f0-b27f-0ec1eb31c371
DTSTAMP:20251216T154556Z
SUMMARY:Freshmen Football Potluck
URL;VALUE=URI:https://www.lpssonline.com/schools/acadiana/calendar/8295799/
 freshmen-football-potluck
DTSTART:20250826T230000Z
DTEND:20250827T010000Z
END:VEVENT
END:VCALENDAR
