BEGIN:VCALENDAR
VERSION:2.0
PRODID:SchoolNow
CALSCALE:GREGORIAN
BEGIN:VEVENT
UID:d173d0e6-5075-11f0-bf58-0a58a9feac02
DTSTAMP:20251216T154557Z
SUMMARY:Grad Shoppe Junior Ring Presentation
LOCATION:Cafeteria
URL;VALUE=URI:https://www.lpssonline.com/schools/acadiana/calendar/8345661/
 grad-shoppe-junior-ring-presentation
DTSTART:20250827T130500Z
DTEND:20250827T143000Z
END:VEVENT
END:VCALENDAR
