BEGIN:VCALENDAR
VERSION:2.0
PRODID:SchoolNow
CALSCALE:GREGORIAN
BEGIN:VEVENT
UID:b89a28f6-794a-11f0-ba8f-0a58a9feac02
DTSTAMP:20251216T154557Z
SUMMARY:Talent Search Workshop (2nd hour)
LOCATION:Cafeteria
URL;VALUE=URI:https://www.lpssonline.com/schools/acadiana/calendar/8508447/
 talent-search-workshop-2nd-hour
DTSTART:20250908T130500Z
DTEND:20250908T133500Z
END:VEVENT
END:VCALENDAR
