BEGIN:VCALENDAR
VERSION:2.0
PRODID:SchoolNow
CALSCALE:GREGORIAN
BEGIN:VEVENT
UID:ab8ca50e-7a16-11f0-a641-0a58a9feac02
DTSTAMP:20251216T154556Z
SUMMARY:Talent Search Workshop (2nd hour)
LOCATION:Cafeteria
URL;VALUE=URI:https://www.lpssonline.com/schools/acadiana/calendar/8511519/
 talent-search-workshop-2nd-hour
DTSTART:20251006T130500Z
DTEND:20251006T133500Z
END:VEVENT
END:VCALENDAR
