BEGIN:VCALENDAR
VERSION:2.0
PRODID:SchoolNow
CALSCALE:GREGORIAN
BEGIN:VEVENT
UID:ab8ca96e-7a16-11f0-8c2b-0a58a9feac02
DTSTAMP:20251216T154557Z
SUMMARY:Talent Search Workshop (2nd hour)
LOCATION:Cafeteria
URL;VALUE=URI:https://www.lpssonline.com/schools/acadiana/calendar/8511521/
 talent-search-workshop-2nd-hour
DTSTART:20251201T140500Z
DTEND:20251201T143500Z
END:VEVENT
END:VCALENDAR
