BEGIN:VCALENDAR
VERSION:2.0
PRODID:SchoolNow
CALSCALE:GREGORIAN
BEGIN:VEVENT
UID:ab8cac3e-7a16-11f0-b279-0a58a9feac02
DTSTAMP:20251216T154556Z
SUMMARY:Talent Search Workshop (2nd hour)
LOCATION:Cafeteria
URL;VALUE=URI:https://www.lpssonline.com/schools/acadiana/calendar/8511523/
 talent-search-workshop-2nd-hour
DTSTART:20260202T140500Z
DTEND:20260202T143500Z
END:VEVENT
END:VCALENDAR
