BEGIN:VCALENDAR
VERSION:2.0
PRODID:SchoolNow
CALSCALE:GREGORIAN
BEGIN:VEVENT
UID:aba26920-7a16-11f0-9e9f-0a58a9feac02
DTSTAMP:20251216T154557Z
SUMMARY:Talent Search Workshop (2nd hour)
LOCATION:Cafeteria
URL;VALUE=URI:https://www.lpssonline.com/schools/acadiana/calendar/8511524/
 talent-search-workshop-2nd-hour
DTSTART:20260302T140500Z
DTEND:20260302T143500Z
END:VEVENT
END:VCALENDAR
