BEGIN:VCALENDAR
VERSION:2.0
PRODID:SchoolNow
CALSCALE:GREGORIAN
BEGIN:VEVENT
UID:aba26d44-7a16-11f0-abfc-0a58a9feac02
DTSTAMP:20251216T154557Z
SUMMARY:Talent Search Workshop (2nd hour)
LOCATION:Cafeteria
URL;VALUE=URI:https://www.lpssonline.com/schools/acadiana/calendar/8511525/
 talent-search-workshop-2nd-hour
DTSTART:20260420T130500Z
DTEND:20260420T133500Z
END:VEVENT
END:VCALENDAR
