BEGIN:VCALENDAR
VERSION:2.0
PRODID:SchoolNow
CALSCALE:GREGORIAN
BEGIN:VEVENT
UID:aba26f06-7a16-11f0-adab-0a58a9feac02
DTSTAMP:20251216T154557Z
SUMMARY:Choir Parent Meeting
LOCATION:Choir Room -  Room 201
URL;VALUE=URI:https://www.lpssonline.com/schools/acadiana/calendar/8511526/
 choir-parent-meeting
DTSTART:20250904T230000Z
DTEND:20250905T000000Z
END:VEVENT
END:VCALENDAR
