BEGIN:VCALENDAR
VERSION:2.0
PRODID:SchoolNow
CALSCALE:GREGORIAN
BEGIN:VEVENT
UID:aba2708c-7a16-11f0-8a5a-0a58a9feac02
DTSTAMP:20251216T154557Z
SUMMARY:Chorus/ World's Finest Chocolate Sale
URL;VALUE=URI:https://www.lpssonline.com/schools/acadiana/calendar/8511527/
 chorus-worlds-finest-chocolate-sale
DTSTART;VALUE=DATE:20250825
DTEND;VALUE=DATE:20250926
END:VEVENT
END:VCALENDAR
