BEGIN:VCALENDAR
VERSION:2.0
PRODID:SchoolNow
CALSCALE:GREGORIAN
BEGIN:VEVENT
UID:8ef224f8-7c7a-11f0-920d-0a58a9feac02
DTSTAMP:20251216T154557Z
SUMMARY:Dance Team Practice
LOCATION:Cafeteria
URL;VALUE=URI:https://www.lpssonline.com/schools/acadiana/calendar/8519596/
 dance-team-practice
DTSTART:20250818T194500Z
DTEND:20250818T220000Z
END:VEVENT
END:VCALENDAR
