BEGIN:VCALENDAR
VERSION:2.0
PRODID:SchoolNow
CALSCALE:GREGORIAN
BEGIN:VEVENT
UID:8ef22976-7c7a-11f0-a3bf-0a58a9feac02
DTSTAMP:20251216T154557Z
SUMMARY:Dance Team Practice
LOCATION:Cafeteria
URL;VALUE=URI:https://www.lpssonline.com/schools/acadiana/calendar/8519598/
 dance-team-practice
DTSTART:20250827T213000Z
DTEND:20250827T230000Z
END:VEVENT
END:VCALENDAR
