BEGIN:VCALENDAR
VERSION:2.0
PRODID:SchoolNow
CALSCALE:GREGORIAN
BEGIN:VEVENT
UID:8ef22a84-7c7a-11f0-b251-0a58a9feac02
DTSTAMP:20251216T154556Z
SUMMARY:Dance Team Practice
LOCATION:Cafeteria
URL;VALUE=URI:https://www.lpssonline.com/schools/acadiana/calendar/8519599/
 dance-team-practice
DTSTART:20250825T194500Z
DTEND:20250825T220000Z
END:VEVENT
END:VCALENDAR
