BEGIN:VCALENDAR
VERSION:2.0
PRODID:SchoolNow
CALSCALE:GREGORIAN
BEGIN:VEVENT
UID:8ef22b7e-7c7a-11f0-9fab-0a58a9feac02
DTSTAMP:20251216T154556Z
SUMMARY:Football Scrimmage vs Alexandria Senior High
LOCATION:Stadium
URL;VALUE=URI:https://www.lpssonline.com/schools/acadiana/calendar/8519600/
 football-scrimmage-vs-alexandria-senior-high
DTSTART:20250822T223000Z
DTEND:20250823T013000Z
END:VEVENT
END:VCALENDAR
