BEGIN:VCALENDAR
VERSION:2.0
PRODID:SchoolNow
CALSCALE:GREGORIAN
BEGIN:VEVENT
UID:673423c6-7f77-11f0-ad40-0a58a9feac02
DTSTAMP:20251216T154556Z
SUMMARY:Texas Roadhouse Night
URL;VALUE=URI:https://www.lpssonline.com/schools/acadiana/calendar/8532387/
 texas-roadhouse-night
DTSTART:20251008T220000Z
DTEND:20251009T030000Z
END:VEVENT
END:VCALENDAR
