BEGIN:VCALENDAR
VERSION:2.0
PRODID:SchoolNow
CALSCALE:GREGORIAN
BEGIN:VEVENT
UID:47af9bf0-81db-11f0-b7ac-0a58a9feac02
DTSTAMP:20251216T154557Z
SUMMARY:PSAT
URL;VALUE=URI:https://www.lpssonline.com/schools/acadiana/calendar/8541598/
 psat
DTSTART:20251022T130000Z
DTEND:20251022T160000Z
END:VEVENT
END:VCALENDAR
