BEGIN:VCALENDAR
VERSION:2.0
PRODID:SchoolNow
CALSCALE:GREGORIAN
BEGIN:VEVENT
UID:f3b0e5e8-883a-11f0-b666-0a58a9feac02
DTSTAMP:20251216T154557Z
SUMMARY:Boys Soccer Parent Meeting (Himel)
LOCATION:Cafeteria
URL;VALUE=URI:https://www.lpssonline.com/schools/acadiana/calendar/8571412/
 boys-soccer-parent-meeting-himel
DTSTART:20250911T230000Z
DTEND:20250912T000000Z
END:VEVENT
END:VCALENDAR
