BEGIN:VCALENDAR
VERSION:2.0
PRODID:SchoolNow
CALSCALE:GREGORIAN
BEGIN:VEVENT
UID:d8cfc4b4-8a6b-11f0-a48c-0a58a9feac02
DTSTAMP:20251216T154557Z
SUMMARY:Football @ Zachary
URL;VALUE=URI:https://www.lpssonline.com/schools/acadiana/calendar/8584104/
 football-zachary
DTSTART:20250913T000000Z
DTEND:20250913T010000Z
END:VEVENT
END:VCALENDAR
