BEGIN:VCALENDAR
VERSION:2.0
PRODID:SchoolNow
CALSCALE:GREGORIAN
BEGIN:VEVENT
UID:d8cfc7fc-8a6b-11f0-b3f1-0a58a9feac02
DTSTAMP:20251216T154556Z
SUMMARY:Football (H) vs  Ruston
URL;VALUE=URI:https://www.lpssonline.com/schools/acadiana/calendar/8584105/
 football-h-vs-ruston
DTSTART:20250906T000000Z
DTEND:20250906T020000Z
END:VEVENT
END:VCALENDAR
