BEGIN:VCALENDAR
VERSION:2.0
PRODID:SchoolNow
CALSCALE:GREGORIAN
BEGIN:VEVENT
UID:d8cfc928-8a6b-11f0-96f8-0a58a9feac02
DTSTAMP:20251216T154557Z
SUMMARY:Football (H)  vs  STM
URL;VALUE=URI:https://www.lpssonline.com/schools/acadiana/calendar/8584106/
 football-h-vs-stm
DTSTART:20250920T000000Z
DTEND:20250920T030000Z
END:VEVENT
END:VCALENDAR
