BEGIN:VCALENDAR
VERSION:2.0
PRODID:SchoolNow
CALSCALE:GREGORIAN
BEGIN:VEVENT
UID:d8cfca2c-8a6b-11f0-8761-0a58a9feac02
DTSTAMP:20251216T154557Z
SUMMARY:Football @ NISH
URL;VALUE=URI:https://www.lpssonline.com/schools/acadiana/calendar/8584107/
 football-nish
DTSTART:20250926T000000Z
DTEND:20250926T030000Z
END:VEVENT
END:VCALENDAR
