BEGIN:VCALENDAR
VERSION:2.0
PRODID:SchoolNow
CALSCALE:GREGORIAN
BEGIN:VEVENT
UID:d8e70d90-8a6b-11f0-b997-0a58a9feac02
DTSTAMP:20251216T154557Z
SUMMARY:Football @ Sulphur
URL;VALUE=URI:https://www.lpssonline.com/schools/acadiana/calendar/8584108/
 football-sulphur
DTSTART:20251004T000000Z
DTEND:20251004T030000Z
END:VEVENT
END:VCALENDAR
