BEGIN:VCALENDAR
VERSION:2.0
PRODID:SchoolNow
CALSCALE:GREGORIAN
BEGIN:VEVENT
UID:d8e711fa-8a6b-11f0-a001-0a58a9feac02
DTSTAMP:20251216T154557Z
SUMMARY:Football (H) vs Barbe "Homecoming"
URL;VALUE=URI:https://www.lpssonline.com/schools/acadiana/calendar/8584109/
 football-h-vs-barbe-homecoming
DTSTART:20251011T000000Z
DTEND:20251011T030000Z
END:VEVENT
END:VCALENDAR
