BEGIN:VCALENDAR
VERSION:2.0
PRODID:SchoolNow
CALSCALE:GREGORIAN
BEGIN:VEVENT
UID:d8e71344-8a6b-11f0-ae32-0a58a9feac02
DTSTAMP:20251216T154557Z
SUMMARY:Football (H) vs LHS   " Senior Night"
URL;VALUE=URI:https://www.lpssonline.com/schools/acadiana/calendar/8584110/
 football-h-vs-lhs-senior-night
DTSTART:20251018T000000Z
DTEND:20251018T030000Z
END:VEVENT
END:VCALENDAR
