BEGIN:VCALENDAR
VERSION:2.0
PRODID:SchoolNow
CALSCALE:GREGORIAN
BEGIN:VEVENT
UID:d8e71466-8a6b-11f0-8e88-0a58a9feac02
DTSTAMP:20251216T154556Z
SUMMARY:Football @ Southside
URL;VALUE=URI:https://www.lpssonline.com/schools/acadiana/calendar/8584111/
 football-southside
DTSTART:20251025T000000Z
DTEND:20251025T030000Z
END:VEVENT
END:VCALENDAR
