BEGIN:VCALENDAR
VERSION:2.0
PRODID:SchoolNow
CALSCALE:GREGORIAN
BEGIN:VEVENT
UID:d8e71560-8a6b-11f0-81a2-0a58a9feac02
DTSTAMP:20251216T154557Z
SUMMARY:Football @   Sam Houston
URL;VALUE=URI:https://www.lpssonline.com/schools/acadiana/calendar/8584112/
 football-sam-houston
DTSTART:20251101T000000Z
DTEND:20251101T030000Z
END:VEVENT
END:VCALENDAR
