BEGIN:VCALENDAR
VERSION:2.0
PRODID:SchoolNow
CALSCALE:GREGORIAN
BEGIN:VEVENT
UID:d8e7165a-8a6b-11f0-9f25-0a58a9feac02
DTSTAMP:20251216T154557Z
SUMMARY:Football (H)  vs Carencro
URL;VALUE=URI:https://www.lpssonline.com/schools/acadiana/calendar/8584113/
 football-h-vs-carencro
DTSTART:20251108T010000Z
DTEND:20251108T040000Z
END:VEVENT
END:VCALENDAR
