BEGIN:VCALENDAR
VERSION:2.0
PRODID:SchoolNow
CALSCALE:GREGORIAN
BEGIN:VEVENT
UID:d8e71740-8a6b-11f0-8189-0a58a9feac02
DTSTAMP:20251216T154556Z
SUMMARY:JV/ Fr  Football (H)  vs  Zachary
URL;VALUE=URI:https://www.lpssonline.com/schools/acadiana/calendar/8584114/
 jv-fr-football-h-vs-zachary
DTSTART:20250910T223000Z
DTEND:20250911T013000Z
END:VEVENT
END:VCALENDAR
