BEGIN:VCALENDAR
VERSION:2.0
PRODID:SchoolNow
CALSCALE:GREGORIAN
BEGIN:VEVENT
UID:d8e71902-8a6b-11f0-98f4-0a58a9feac02
DTSTAMP:20251216T154557Z
SUMMARY:JV/FR Football (H)  vs Cecilia
URL;VALUE=URI:https://www.lpssonline.com/schools/acadiana/calendar/8584116/
 jv-fr-football-h-vs-cecilia
DTSTART:20250923T223000Z
DTEND:20250924T013000Z
END:VEVENT
END:VCALENDAR
