BEGIN:VCALENDAR
VERSION:2.0
PRODID:SchoolNow
CALSCALE:GREGORIAN
BEGIN:VEVENT
UID:d8e719e8-8a6b-11f0-bf1b-0a58a9feac02
DTSTAMP:20251216T154557Z
SUMMARY:JV/FR Football @ Southside
URL;VALUE=URI:https://www.lpssonline.com/schools/acadiana/calendar/8584117/
 jv-fr-football-southside
DTSTART:20251001T223000Z
DTEND:20251002T013000Z
END:VEVENT
END:VCALENDAR
