BEGIN:VCALENDAR
VERSION:2.0
PRODID:SchoolNow
CALSCALE:GREGORIAN
BEGIN:VEVENT
UID:d8e71ace-8a6b-11f0-b077-0a58a9feac02
DTSTAMP:20251216T154556Z
SUMMARY:JV/FR  Football @ Norte Dame
URL;VALUE=URI:https://www.lpssonline.com/schools/acadiana/calendar/8584118/
 jv-fr-football-norte-dame
DTSTART:20251008T223000Z
DTEND:20251009T013000Z
END:VEVENT
END:VCALENDAR
