BEGIN:VCALENDAR
VERSION:2.0
PRODID:SchoolNow
CALSCALE:GREGORIAN
BEGIN:VEVENT
UID:d8e71ba0-8a6b-11f0-946c-0a58a9feac02
DTSTAMP:20251216T154557Z
SUMMARY:JV/FR  Football @  LHS
URL;VALUE=URI:https://www.lpssonline.com/schools/acadiana/calendar/8584119/
 jv-fr-football-lhs
DTSTART:20251015T223000Z
DTEND:20251016T013000Z
END:VEVENT
END:VCALENDAR
