BEGIN:VCALENDAR
VERSION:2.0
PRODID:SchoolNow
CALSCALE:GREGORIAN
BEGIN:VEVENT
UID:d8e71d62-8a6b-11f0-9af4-0a58a9feac02
DTSTAMP:20251216T154556Z
SUMMARY:JV/FR Football (H)  vs STM (McQuain)
URL;VALUE=URI:https://www.lpssonline.com/schools/acadiana/calendar/8584121/
 jv-fr-football-h-vs-stm-mcquain
DTSTART:20251029T230000Z
DTEND:20251030T020000Z
END:VEVENT
END:VCALENDAR
