BEGIN:VCALENDAR
VERSION:2.0
PRODID:SchoolNow
CALSCALE:GREGORIAN
BEGIN:VEVENT
UID:d8e71e3e-8a6b-11f0-85e2-0a58a9feac02
DTSTAMP:20251216T154556Z
SUMMARY:JV/FR  Football @ Carencro
URL;VALUE=URI:https://www.lpssonline.com/schools/acadiana/calendar/8584122/
 jv-fr-football-carencro
DTSTART:20251105T233000Z
DTEND:20251106T023000Z
END:VEVENT
END:VCALENDAR
