BEGIN:VCALENDAR
VERSION:2.0
PRODID:SchoolNow
CALSCALE:GREGORIAN
BEGIN:VEVENT
UID:b00f02be-8d9b-11f0-9fde-0a58a9feac02
DTSTAMP:20251216T154557Z
SUMMARY:Dance Practice
LOCATION:Cafeteria
URL;VALUE=URI:https://www.lpssonline.com/schools/acadiana/calendar/8600859/
 dance-practice
DTSTART:20250911T213000Z
DTEND:20250911T230000Z
END:VEVENT
END:VCALENDAR
