BEGIN:VCALENDAR
VERSION:2.0
PRODID:SchoolNow
CALSCALE:GREGORIAN
BEGIN:VEVENT
UID:b00f0412-8d9b-11f0-bc3a-0a58a9feac02
DTSTAMP:20251216T154557Z
SUMMARY:Flu Shots
URL;VALUE=URI:https://www.lpssonline.com/schools/acadiana/calendar/8600860/
 flu-shots
DTSTART:20251024T163000Z
DTEND:20251024T174500Z
END:VEVENT
END:VCALENDAR
