BEGIN:VCALENDAR
VERSION:2.0
PRODID:SchoolNow
CALSCALE:GREGORIAN
BEGIN:VEVENT
UID:b00f0552-8d9b-11f0-8976-0a58a9feac02
DTSTAMP:20251216T154556Z
SUMMARY:AoB Board Meeting
URL;VALUE=URI:https://www.lpssonline.com/schools/acadiana/calendar/8600861/
 aob-board-meeting
DTSTART:20250917T170000Z
DTEND:20250917T180000Z
END:VEVENT
END:VCALENDAR
