BEGIN:VCALENDAR
VERSION:2.0
PRODID:SchoolNow
CALSCALE:GREGORIAN
BEGIN:VEVENT
UID:b00f078c-8d9b-11f0-9d80-0a58a9feac02
DTSTAMP:20251216T154557Z
SUMMARY:FFA Fall Fest (McQuain)
URL;VALUE=URI:https://www.lpssonline.com/schools/acadiana/calendar/8600863/
 ffa-fall-fest-mcquain
DTSTART:20251115T140000Z
DTEND:20251115T190000Z
END:VEVENT
END:VCALENDAR
