BEGIN:VCALENDAR
VERSION:2.0
PRODID:SchoolNow
CALSCALE:GREGORIAN
BEGIN:VEVENT
UID:b00f0886-8d9b-11f0-b8dd-0a58a9feac02
DTSTAMP:20251216T154557Z
SUMMARY:Boys Soccer Parent Meeting
URL;VALUE=URI:https://www.lpssonline.com/schools/acadiana/calendar/8600864/
 boys-soccer-parent-meeting
DTSTART:20251023T230000Z
DTEND:20251024T010000Z
END:VEVENT
END:VCALENDAR
